BEGIN:VCALENDAR
VERSION:2.0
PRODID:-// - ECPv6.15.20//NONSGML v1.0//EN
CALSCALE:GREGORIAN
METHOD:PUBLISH
X-ORIGINAL-URL:https://www.kc-sentjernej.si
X-WR-CALDESC:Dogodki od 
REFRESH-INTERVAL;VALUE=DURATION:PT1H
X-Robots-Tag:noindex
X-PUBLISHED-TTL:PT1H
BEGIN:VTIMEZONE
TZID:Africa/Abidjan
BEGIN:STANDARD
TZOFFSETFROM:+0000
TZOFFSETTO:+0000
TZNAME:GMT
DTSTART:20180101T000000
END:STANDARD
END:VTIMEZONE
BEGIN:VEVENT
DTSTART;TZID=Africa/Abidjan:20190116T170000
DTEND;TZID=Africa/Abidjan:20190116T170000
DTSTAMP:20260421T092256
CREATED:20181215T234955Z
LAST-MODIFIED:20181224T094543Z
UID:1410-1547658000-1547658000@www.kc-sentjernej.si
SUMMARY:Zrcalce
DESCRIPTION:Avtor: Grigor Vitez\nLutkovno gledališče Nebo\nLutkovna predstava \nRežija: Petra Stare\nAnimacija: Andrej Štular\, Petra Stare \n»Lesena zgodba« o gozdnih živalih. Na gozdni jasi zajec najde zrcalce in v njem uzre svojo podobo. Vesel\, da je našel »svojo sliko« jo pokaže drugim živalim\, a vsaka od njih trdi\, da je slika njena. Nazadnje sliko medved odnese k svoji družini in na njej res vsi prepoznajo medvedjo glavo. Ker je poleg živali in rastlin prav les največje bogastvo gozdov\, so lutke narejene iz lesa. Celoten vtis dopolnjuje glasba\, izvajana pretežno z lesenimi inštrumenti. \nPrimerno: 2+\nTrajanje: 40 min \n🎫 Cena vstopnice: 4 €
URL:https://www.kc-sentjernej.si/dogodek/zrcalce/
CATEGORIES:Izven,Otroški abonma
ATTACH;FMTTYPE=image/jpeg:https://www.kc-sentjernej.si/wp-content/uploads/2018/12/dogodek-stran-1.jpg
END:VEVENT
BEGIN:VEVENT
DTSTART;TZID=Africa/Abidjan:20190116T173000
DTEND;TZID=Africa/Abidjan:20190116T173000
DTSTAMP:20260421T092256
CREATED:20190109T101114Z
LAST-MODIFIED:20190109T102032Z
UID:1477-1547659800-1547659800@www.kc-sentjernej.si
SUMMARY:Promocija zdravja
DESCRIPTION:Zdravstveno vzgojni center ZD Novo mesto vabi na brezplačne delavnice v KC Primoža Trubarja. V delavnicah boste pridobili informacije s katerimi boste uspešno nadgradili svoje znanje za izboljšanje življenjskega sloga. S seboj lahko pripeljete sorodnike\, prijatelje\, vse\, ki jih zanima zdrav način življenja – vsi boste naredili nekaj dobrega za sebe! \nBolezni srca in ožilja so danes vodilni vzrok smrti v svetu in tudi na Dolenjskem. Glavni povzročitelj bolezni je nezdrav življenjski slog in z njim prisotnost dejavnikov tveganja\, kot so povišan krvni tlak\, zvišan holesterol\, sladkorna bolezen\, kajenje in prekomerna telesna teža. \nDokazano je\, da s spremembo življenjskega sloga\, lahko preprečimo do: \n\ndo 80% koronarne srčne bolezni\ndo 90 % sladkorne bolezni tipa 2\nin več kot tretjino vseh primerov raka!\n\nVabimo vas\, da se v sredo 16. 1. 2019 ob 17.30 udeležite delavnice PROMOCIJA ZDRAVJA (ponovitev tudi četrtek\, 17. 1. 2019 ob 17.30) in \nv sredo 23. 1. 2019  ob 17.30 udeležite delavnice DEJAVNIKI TVEGANJA (ponovitev tudi četrtek\, 24. 1. 2019 ob 17.30). \n  \nVeselimo se srečanja z vami. \nPetra Žagar\, dipl. med. sestra
URL:https://www.kc-sentjernej.si/dogodek/promocija-zdravja/
CATEGORIES:Delavnica
ATTACH;FMTTYPE=image/jpeg:https://www.kc-sentjernej.si/wp-content/uploads/2019/01/dogodek-stran.jpg
END:VEVENT
END:VCALENDAR